BEGIN:VCALENDAR
VERSION:2.0
PRODID:-//Festin Paraná - 6º edição - ECPv6.15.17.1//NONSGML v1.0//EN
CALSCALE:GREGORIAN
METHOD:PUBLISH
X-ORIGINAL-URL:https://festinparana.com.br
X-WR-CALDESC:Eventos para Festin Paraná - 6º edição
REFRESH-INTERVAL;VALUE=DURATION:PT1H
X-Robots-Tag:noindex
X-PUBLISHED-TTL:PT1H
BEGIN:VTIMEZONE
TZID:America/Sao_Paulo
BEGIN:STANDARD
TZOFFSETFROM:-0300
TZOFFSETTO:-0300
TZNAME:-03
DTSTART:20250101T000000
END:STANDARD
END:VTIMEZONE
BEGIN:VEVENT
DTSTART;TZID=America/Sao_Paulo:20260529T170000
DTEND;TZID=America/Sao_Paulo:20260529T183000
DTSTAMP:20260421T034313
CREATED:20260420T210039Z
LAST-MODIFIED:20260420T212246Z
UID:3695-1780074000-1780079400@festinparana.com.br
SUMMARY:Encontro com os artistas do festival
DESCRIPTION:O Festin reúne todos os seus artistas da 6ª edição para um bate-papo à respeito do intercâmbio Brasil/Espanha e a internacionalização dos espetáculos brasileiros pelo mundo\, mediado pela curadora\, pedagoga e atriz Herica Veryano.  \n\nSexta-feira\, 29 de maio às 17 horas\n\nCentro Cultural Gilberto Mayer
URL:https://festinparana.com.br/programacao/encontro-com-os-artistas-do-festival/
LOCATION:Centro Cultural Gilberto Mayer\, Rua Duque de Caxias\, 379\, cascavel\, Paraná\, 85801-100\, Brasil
CATEGORIES:Atividades 2026
ATTACH;FMTTYPE=image/jpeg:https://festinparana.com.br/wp-content/uploads/2026/04/2025_PlateiaPensante_dia17-foto-Lina-Sumizono-182-840x560-1.jpg
END:VEVENT
END:VCALENDAR