BEGIN:VCALENDAR
VERSION:2.0
PRODID:-//Festin Paraná - 6º edição - ECPv6.15.17.1//NONSGML v1.0//EN
CALSCALE:GREGORIAN
METHOD:PUBLISH
X-WR-CALNAME:Festin Paraná - 6º edição
X-ORIGINAL-URL:https://festinparana.com.br
X-WR-CALDESC:Eventos para Festin Paraná - 6º edição
REFRESH-INTERVAL;VALUE=DURATION:PT1H
X-Robots-Tag:noindex
X-PUBLISHED-TTL:PT1H
BEGIN:VTIMEZONE
TZID:America/Sao_Paulo
BEGIN:STANDARD
TZOFFSETFROM:-0300
TZOFFSETTO:-0300
TZNAME:-03
DTSTART:20250101T000000
END:STANDARD
END:VTIMEZONE
BEGIN:VEVENT
DTSTART;TZID=America/Sao_Paulo:20260530T193000
DTEND;TZID=America/Sao_Paulo:20260730T203000
DTSTAMP:20260420T173017
CREATED:20260410T191046Z
LAST-MODIFIED:20260420T195439Z
UID:3605-1780169400-1785443400@festinparana.com.br
SUMMARY:Menina dos Olhos D’água - 30 de maio
DESCRIPTION:Coletivo Gompa (Porto Alegre-RS/Alemanha/Cuba/Chile) \n\n30 e 31 de maio às 19h00 \n\nTeatro Municipal de Cascavel  \num espetáculo internacional contemplado pelo Prêmio IKF do Goethe-Institut e pelo Iberescena\, com parcerias entre Brasil\, Alemanha\, Cuba e Chile. A obra aborda a realidade dos refugiados climáticos a partir da história de uma criança que enfrenta catástrofes ambientais. Misturando teatro de formas animadas e teatro documentário multimídia\, a cena combina bonecos\, vídeos e imagens reais. 
URL:https://festinparana.com.br/event/menina-dos-olhos-dagua-30-de-maio/
LOCATION:Teatro Municipal Sefrin Filho\, R. Rio de Janeiro\, 905\, cascavel\, Paraná\, 85801-030\, Brasil
CATEGORIES:Dia 3: 30/05
ATTACH;FMTTYPE=image/jpeg:https://festinparana.com.br/wp-content/uploads/2026/04/Menina_Festin2026-1.jpg
END:VEVENT
END:VCALENDAR