BEGIN:VCALENDAR
VERSION:2.0
PRODID:-//Festin Paraná - 6º edição - ECPv6.15.17.1//NONSGML v1.0//EN
CALSCALE:GREGORIAN
METHOD:PUBLISH
X-WR-CALNAME:Festin Paraná - 6º edição
X-ORIGINAL-URL:https://festinparana.com.br
X-WR-CALDESC:Eventos para Festin Paraná - 6º edição
REFRESH-INTERVAL;VALUE=DURATION:PT1H
X-Robots-Tag:noindex
X-PUBLISHED-TTL:PT1H
BEGIN:VTIMEZONE
TZID:America/Sao_Paulo
BEGIN:STANDARD
TZOFFSETFROM:-0300
TZOFFSETTO:-0300
TZNAME:-03
DTSTART:20250101T000000
END:STANDARD
END:VTIMEZONE
BEGIN:VEVENT
DTSTART;TZID=America/Sao_Paulo:20260528T100000
DTEND;TZID=America/Sao_Paulo:20260528T170000
DTSTAMP:20260420T173006
CREATED:20260420T200106Z
LAST-MODIFIED:20260420T202553Z
UID:3676-1779962400-1779987600@festinparana.com.br
SUMMARY:Lemba - 28 de maio
DESCRIPTION:Cia Ángeles de Trapo (Espanha) Atração internacional \n\n28 e 29 de maio às 10h e às 15h\n\nCentro Cultural Gilberto Mayer \nUm chimpanzé é retirado da selva e  transformado em uma atração das redes sociais\,  embarca em uma aventura rumo à liberdade. 
URL:https://festinparana.com.br/event/lemba/
LOCATION:Centro Cultural Gilberto Mayer\, Rua Duque de Caxias\, 379\, cascavel\, Paraná\, 85801-100\, Brasil
CATEGORIES:Dia 1: 28/05,Festin 2026
ATTACH;FMTTYPE=image/jpeg:https://festinparana.com.br/wp-content/uploads/2026/04/espetaculo-lemba.jpg
END:VEVENT
BEGIN:VEVENT
DTSTART;TZID=America/Sao_Paulo:20260528T190000
DTEND;TZID=America/Sao_Paulo:20260528T200000
DTSTAMP:20260420T173006
CREATED:20260410T175214Z
LAST-MODIFIED:20260420T190745Z
UID:3591-1779994800-1779998400@festinparana.com.br
SUMMARY:Fiu Fiu - 28 de maio
DESCRIPTION:Grupo Tibanaré (Cuiabá-MT) \n28 e 29 de maio às 19h00\nTeatro Municipal de Cascavel  \nFiu Fiu – Um encontro entre pássaros é um voar leve sobre um campo de possibilidades. Uma história que reanima o charme da conquista e que reacende os corações que já estavam desacreditados pela intolerância. Acompanhar os dois passarinhos neste jogo da conquista é um remédio para o coração
URL:https://festinparana.com.br/event/fiu-fiu-dia-28-05/
LOCATION:Teatro Municipal Sefrin Filho\, R. Rio de Janeiro\, 905\, cascavel\, Paraná\, 85801-030\, Brasil
CATEGORIES:Dia 1: 28/05,Festin 2026
ATTACH;FMTTYPE=image/jpeg:https://festinparana.com.br/wp-content/uploads/2026/04/FIUFIU_FESTIN2026.jpg
END:VEVENT
BEGIN:VEVENT
DTSTART;TZID=America/Sao_Paulo:20260529T093000
DTEND;TZID=America/Sao_Paulo:20260529T103000
DTSTAMP:20260420T173006
CREATED:20260410T183732Z
LAST-MODIFIED:20260420T193355Z
UID:3599-1780047000-1780050600@festinparana.com.br
SUMMARY:O Lançador de Foguetes - 29 de maio
DESCRIPTION:O Lançador de Foguetes  \nDe Pernas pro Ar Cia de Teatro (Canoas-RS) \n\n29 de maio às 09h30 ⧫ CAIC I\n30 de maio às 10h ⧫ Calçadão Av. Brasil \n31 de maio às 15h ⧫ Lago Municipal de Cascavel\n\nUm personagem excêntrico e virtuoso está a procura do lugar ideal para a excelência de sua experiência Científica\, através de seu triciclo recheado de elementos cênicos\, calcula os fenômenos físicos que podem interferir nesta jornada. utiliza os malabares circenses e as engenhocas astrológicas para medir as distâncias\, calcular o vento e somado a energia do público lançar seus foguetes\, ideias ao ar.
URL:https://festinparana.com.br/event/o-lancador-de-foguetes-29-de-maio/
LOCATION:CAIC I\, Avenida Cardeal\, 1309\, Cascavel\, Paraná\, 85814-780\, Brazil
CATEGORIES:Dia 2: 29/05,Festin 2026
ATTACH;FMTTYPE=image/jpeg:https://festinparana.com.br/wp-content/uploads/2026/04/O-Lancador-de-Foguetes-_festin2026.jpg
END:VEVENT
BEGIN:VEVENT
DTSTART;TZID=America/Sao_Paulo:20260529T100000
DTEND;TZID=America/Sao_Paulo:20260530T110000
DTSTAMP:20260420T173006
CREATED:20260420T191551Z
LAST-MODIFIED:20260420T193450Z
UID:3653-1780048800-1780138800@festinparana.com.br
SUMMARY:O Lançador de Foguetes - 30 de maio
DESCRIPTION:O Lançador de Foguetes  \nDe Pernas pro Ar Cia de Teatro (Canoas-RS) \n29 de maio às 09h30 ⧫ CAIC I \n30 de maio às 10h ⧫ Calçadão Av. Brasil  \n31 de maio às 15h ⧫ Lago Municipal de Cascavel \nUm personagem excêntrico e virtuoso está a procura do lugar ideal para a excelência de sua experiência Científica\, através de seu triciclo recheado de elementos cênicos\, calcula os fenômenos físicos que podem interferir nesta jornada. utiliza os malabares circenses e as engenhocas astrológicas para medir as distâncias\, calcular o vento e somado a energia do público lançar seus foguetes\, ideias ao ar.
URL:https://festinparana.com.br/event/o-lancador-de-foguetes-30-de-maio/
LOCATION:Calçadão da Av Brasil\, avenida brasil\, Cascavel\, paraná\, 85801-000\, Brasil
CATEGORIES:Dia 3: 30/05,Festin 2026
ATTACH;FMTTYPE=image/jpeg:https://festinparana.com.br/wp-content/uploads/2026/04/O-Lancador-de-Foguetes-_festin2026.jpg
END:VEVENT
BEGIN:VEVENT
DTSTART;TZID=America/Sao_Paulo:20260529T190000
DTEND;TZID=America/Sao_Paulo:20260530T200000
DTSTAMP:20260420T173006
CREATED:20260420T185915Z
LAST-MODIFIED:20260420T190801Z
UID:3649-1780081200-1780171200@festinparana.com.br
SUMMARY:Fiu Fiu - 29 de maio
DESCRIPTION:Grupo Tibanaré (Cuiabá-MT) \n28 e 29 de maio às 19h00\nTeatro Municipal de Cascavel  \nFiu Fiu – Um encontro entre pássaros é um voar leve sobre um campo de possibilidades. Uma história que reanima o charme da conquista e que reacende os corações que já estavam desacreditados pela intolerância. Acompanhar os dois passarinhos neste jogo da conquista é um remédio para o coração
URL:https://festinparana.com.br/event/fiu-fiu-dia-29-05/
LOCATION:Teatro Municipal Sefrin Filho\, R. Rio de Janeiro\, 905\, cascavel\, Paraná\, 85801-030\, Brasil
CATEGORIES:Dia 2: 29/05,Festin 2026
ATTACH;FMTTYPE=image/jpeg:https://festinparana.com.br/wp-content/uploads/2026/04/FIUFIU_FESTIN2026.jpg
END:VEVENT
BEGIN:VEVENT
DTSTART;TZID=America/Sao_Paulo:20260530T150000
DTEND;TZID=America/Sao_Paulo:20260530T160000
DTSTAMP:20260420T173006
CREATED:20260410T190745Z
LAST-MODIFIED:20260420T194627Z
UID:3602-1780153200-1780156800@festinparana.com.br
SUMMARY:Capivaras Voadoras - 30 de maio
DESCRIPTION:Grupo Tibanaré (Cuiabá-MT) \n\n30 de maio às 15h\n31 de maio às 10h\n\nLago Municipal de Cascavel \nCinco capivaras circulam pelas ruas e convidam o público para uma experiência interativa sobre a migração animal e a sobrevivência. Em contato direto com crianças e famílias\, elas provocam reflexões sobre sustentabilidade e preservação ambiental. Uma intervenção itinerante que desperta o cuidado e a valorização do meio ambiente.
URL:https://festinparana.com.br/event/capivaras-voadoras-30-de-maio/
LOCATION:Lago Municipal de Cascavel\, Cascavel\, paraná\, Brasil
CATEGORIES:Dia 3: 30/05
END:VEVENT
BEGIN:VEVENT
DTSTART;TZID=America/Sao_Paulo:20260530T193000
DTEND;TZID=America/Sao_Paulo:20260730T203000
DTSTAMP:20260420T173006
CREATED:20260410T191046Z
LAST-MODIFIED:20260420T195439Z
UID:3605-1780169400-1785443400@festinparana.com.br
SUMMARY:Menina dos Olhos D’água - 30 de maio
DESCRIPTION:Coletivo Gompa (Porto Alegre-RS/Alemanha/Cuba/Chile) \n\n30 e 31 de maio às 19h00 \n\nTeatro Municipal de Cascavel  \num espetáculo internacional contemplado pelo Prêmio IKF do Goethe-Institut e pelo Iberescena\, com parcerias entre Brasil\, Alemanha\, Cuba e Chile. A obra aborda a realidade dos refugiados climáticos a partir da história de uma criança que enfrenta catástrofes ambientais. Misturando teatro de formas animadas e teatro documentário multimídia\, a cena combina bonecos\, vídeos e imagens reais. 
URL:https://festinparana.com.br/event/menina-dos-olhos-dagua-30-de-maio/
LOCATION:Teatro Municipal Sefrin Filho\, R. Rio de Janeiro\, 905\, cascavel\, Paraná\, 85801-030\, Brasil
CATEGORIES:Dia 3: 30/05
ATTACH;FMTTYPE=image/jpeg:https://festinparana.com.br/wp-content/uploads/2026/04/Menina_Festin2026-1.jpg
END:VEVENT
BEGIN:VEVENT
DTSTART;TZID=America/Sao_Paulo:20260531T100000
DTEND;TZID=America/Sao_Paulo:20260531T110000
DTSTAMP:20260420T173006
CREATED:20260420T194715Z
LAST-MODIFIED:20260420T194818Z
UID:3666-1780221600-1780225200@festinparana.com.br
SUMMARY:Capivaras Voadoras - 31 de maio
DESCRIPTION:Grupo Tibanaré (Cuiabá-MT) \n\n30 de maio às 15h\n31 de maio às 10h\n\nLago Municipal de Cascavel \nCinco capivaras circulam pelas ruas e convidam o público para uma experiência interativa sobre a migração animal e a sobrevivência. Em contato direto com crianças e famílias\, elas provocam reflexões sobre sustentabilidade e preservação ambiental. Uma intervenção itinerante que desperta o cuidado e a valorização do meio ambiente.
URL:https://festinparana.com.br/event/capivaras-voadoras-31-de-maio/
LOCATION:Lago Municipal de Cascavel\, Cascavel\, paraná\, Brasil
CATEGORIES:Dia 4: 31/05
END:VEVENT
BEGIN:VEVENT
DTSTART;TZID=America/Sao_Paulo:20260531T150000
DTEND;TZID=America/Sao_Paulo:20260531T160000
DTSTAMP:20260420T173006
CREATED:20260420T193246Z
LAST-MODIFIED:20260420T193246Z
UID:3654-1780239600-1780243200@festinparana.com.br
SUMMARY:O Lançador de Foguetes - 31 de maio
DESCRIPTION:O Lançador de Foguetes  \nDe Pernas pro Ar Cia de Teatro (Canoas-RS) \n29 de maio às 09h30 ⧫ CAIC I \n30 de maio às 10h ⧫ Calçadão Av. Brasil  \n31 de maio às 15h ⧫ Lago Municipal de Cascavel \nUm personagem excêntrico e virtuoso está a procura do lugar ideal para a excelência de sua experiência Científica\, através de seu triciclo recheado de elementos cênicos\, calcula os fenômenos físicos que podem interferir nesta jornada. utiliza os malabares circenses e as engenhocas astrológicas para medir as distâncias\, calcular o vento e somado a energia do público lançar seus foguetes\, ideias ao ar.
URL:https://festinparana.com.br/event/o-lancador-de-foguetes-31-de-maio/
LOCATION:Lago Municipal de Cascavel\, Cascavel\, paraná\, Brasil
CATEGORIES:Dia 4: 31/05
ATTACH;FMTTYPE=image/jpeg:https://festinparana.com.br/wp-content/uploads/2026/04/O-Lancador-de-Foguetes-_festin2026.jpg
END:VEVENT
BEGIN:VEVENT
DTSTART;TZID=America/Sao_Paulo:20260531T193000
DTEND;TZID=America/Sao_Paulo:20260531T203000
DTSTAMP:20260420T173006
CREATED:20260420T195340Z
LAST-MODIFIED:20260420T195432Z
UID:3670-1780255800-1780259400@festinparana.com.br
SUMMARY:Menina dos Olhos D’água - 31 de maio
DESCRIPTION:Coletivo Gompa (Porto Alegre-RS/Alemanha/Cuba/Chile) \n\n30 e 31 de maio às 19h00 \n\nTeatro Municipal de Cascavel  \num espetáculo internacional contemplado pelo Prêmio IKF do Goethe-Institut e pelo Iberescena\, com parcerias entre Brasil\, Alemanha\, Cuba e Chile. A obra aborda a realidade dos refugiados climáticos a partir da história de uma criança que enfrenta catástrofes ambientais. Misturando teatro de formas animadas e teatro documentário multimídia\, a cena combina bonecos\, vídeos e imagens reais. 
URL:https://festinparana.com.br/event/menina-dos-olhos-dagua-31-de-maio/
LOCATION:Teatro Municipal Sefrin Filho\, R. Rio de Janeiro\, 905\, cascavel\, Paraná\, 85801-030\, Brasil
CATEGORIES:Dia 4: 31/05
ATTACH;FMTTYPE=image/jpeg:https://festinparana.com.br/wp-content/uploads/2026/04/Menina_Festin2026-1.jpg
END:VEVENT
END:VCALENDAR